BEGIN:VCALENDAR
VERSION:2.0
PRODID:-//jEvents 2.0 for Joomla//EN
CALSCALE:GREGORIAN
METHOD:PUBLISH
BEGIN:VTIMEZONE
TZID:Europe/Berlin
BEGIN:STANDARD
DTSTART:20171029T020000
RDATE:20180325T030000
TZOFFSETFROM:+0200
TZOFFSETTO:+0100
TZNAME:Europe/Berlin CET
END:STANDARD
BEGIN:STANDARD
DTSTART:20181028T020000
RDATE:20190331T030000
TZOFFSETFROM:+0200
TZOFFSETTO:+0100
TZNAME:Europe/Berlin CET
END:STANDARD
BEGIN:STANDARD
DTSTART:20191027T020000
RDATE:20200329T030000
TZOFFSETFROM:+0200
TZOFFSETTO:+0100
TZNAME:Europe/Berlin CET
END:STANDARD
BEGIN:STANDARD
DTSTART:20201025T020000
RDATE:20210328T030000
TZOFFSETFROM:+0200
TZOFFSETTO:+0100
TZNAME:Europe/Berlin CET
END:STANDARD
BEGIN:DAYLIGHT
DTSTART:20170912T000000
RDATE:20171029T020000
TZOFFSETFROM:+0100
TZOFFSETTO:+0200
TZNAME:Europe/Berlin CEST
END:DAYLIGHT
BEGIN:DAYLIGHT
DTSTART:20180325T030000
RDATE:20181028T020000
TZOFFSETFROM:+0100
TZOFFSETTO:+0200
TZNAME:Europe/Berlin CEST
END:DAYLIGHT
BEGIN:DAYLIGHT
DTSTART:20190331T030000
RDATE:20191027T020000
TZOFFSETFROM:+0100
TZOFFSETTO:+0200
TZNAME:Europe/Berlin CEST
END:DAYLIGHT
BEGIN:DAYLIGHT
DTSTART:20200329T030000
RDATE:20201025T020000
TZOFFSETFROM:+0100
TZOFFSETTO:+0200
TZNAME:Europe/Berlin CEST
END:DAYLIGHT
END:VTIMEZONE
BEGIN:VEVENT
UID:8437b23334cb43170b495d28c1a48ebf
CATEGORIES:Crosswindtraining
SUMMARY:SIM&FLY +ILV-Flugtag
DESCRIPTION;ENCODING=QUOTED-PRINTABLE:<p>	SIM&FLY</p><p>	von Donnerstag, 13. September</p><p>	bis Montag, 17. Sep
 tember</p><p>	<strong>Terminbuchung auf Voranmeldung</strong> (mind. 2 Wo i
 m Voraus empfohlen)</p><p>	ICAO-ELPT Level 4 und 5 Erstprfg.+Verlängerung a
 uf Anfrage</p><p>	max. 6 Teilnehmer pro Trainingstag</p><p>	Trainer on duty
 : NN</p><p>	<strong>Am Sonnabend, 15. September findet der ILV-FLUGTAG am F
 lugplatz Hungriger Wolf statt!</strong></p>
DTSTAMP:20260421T164121Z
DTSTART;TZID=Europe/Berlin;VALUE=DATE:20180913
DTEND;TZID=Europe/Berlin;VALUE=DATE:20180918
SEQUENCE:0
TRANSP:OPAQUE
END:VEVENT
END:VCALENDAR