BEGIN:VCALENDAR
VERSION:2.0
PRODID:-//jEvents 2.0 for Joomla//EN
CALSCALE:GREGORIAN
METHOD:PUBLISH
BEGIN:VTIMEZONE
TZID:Europe/Berlin
BEGIN:STANDARD
DTSTART:20171029T020000
RDATE:20180325T030000
TZOFFSETFROM:+0200
TZOFFSETTO:+0100
TZNAME:Europe/Berlin CET
END:STANDARD
BEGIN:STANDARD
DTSTART:20181028T020000
RDATE:20190331T030000
TZOFFSETFROM:+0200
TZOFFSETTO:+0100
TZNAME:Europe/Berlin CET
END:STANDARD
BEGIN:STANDARD
DTSTART:20191027T020000
RDATE:20200329T030000
TZOFFSETFROM:+0200
TZOFFSETTO:+0100
TZNAME:Europe/Berlin CET
END:STANDARD
BEGIN:STANDARD
DTSTART:20201025T020000
RDATE:20210328T030000
TZOFFSETFROM:+0200
TZOFFSETTO:+0100
TZNAME:Europe/Berlin CET
END:STANDARD
BEGIN:DAYLIGHT
DTSTART:20171005T000000
RDATE:20171029T020000
TZOFFSETFROM:+0100
TZOFFSETTO:+0200
TZNAME:Europe/Berlin CEST
END:DAYLIGHT
BEGIN:DAYLIGHT
DTSTART:20180325T030000
RDATE:20181028T020000
TZOFFSETFROM:+0100
TZOFFSETTO:+0200
TZNAME:Europe/Berlin CEST
END:DAYLIGHT
BEGIN:DAYLIGHT
DTSTART:20190331T030000
RDATE:20191027T020000
TZOFFSETFROM:+0100
TZOFFSETTO:+0200
TZNAME:Europe/Berlin CEST
END:DAYLIGHT
BEGIN:DAYLIGHT
DTSTART:20200329T030000
RDATE:20201025T020000
TZOFFSETFROM:+0100
TZOFFSETTO:+0200
TZNAME:Europe/Berlin CEST
END:DAYLIGHT
END:VTIMEZONE
BEGIN:VEVENT
UID:b289d508e035aaeadd43357cbcda565e
CATEGORIES:Crosswindtraining
SUMMARY:SIM&FLY
DESCRIPTION;ENCODING=QUOTED-PRINTABLE:<p>	SIM&FLY</p><p>	Sonnabend, 6. Oktober</p><p>	 </p><p>	<strong>Terminbuch
 ung auf Voranmeldung</strong> (mind. 2 Wo im Voraus empfohlen)</p><p>	<span
  id="cloakbb6b9dd30f7306e37548fb37ff3af5c0">Diese E-Mail-Adresse ist vor Sp
 ambots geschützt! Zur Anzeige muss JavaScript eingeschaltet sein!</span><sc
 ript type='text/javascript'>
				document.getElementById('cloakbb6b9dd30f73
 06e37548fb37ff3af5c0').innerHTML = '';
				var prefix = '&#109;a' + 'i&#108
 ;' + '&#116;o';
				var path = 'hr' + 'ef' + '=';
				var addybb6b9dd30f730
 6e37548fb37ff3af5c0 = '&#97;nj&#97;' + '&#64;';
				addybb6b9dd30f7306e3754
 8fb37ff3af5c0 = addybb6b9dd30f7306e37548fb37ff3af5c0 + 'w&#111;lffs&#111;n'
  + '&#46;' + 'd&#101;';
				var addy_textbb6b9dd30f7306e37548fb37ff3af5c0 =
  '&#97;nj&#97;' + '&#64;' + 'w&#111;lffs&#111;n' + '&#46;' + 'd&#101;';docu
 ment.getElementById('cloakbb6b9dd30f7306e37548fb37ff3af5c0').innerHTML += '
 <a ' + path + '\'' + prefix + ':' + addybb6b9dd30f7306e37548fb37ff3af5c0 + 
 '\'>'+addy_textbb6b9dd30f7306e37548fb37ff3af5c0+'<\/a>';
		</script></p><p>
 	max. 6 Teilnehmer pro Trainingstag</p><p>	3 Buchungen</p><p>	Trainer on du
 ty: Frank Manthey</p>
DTSTAMP:20260421T144401Z
DTSTART;TZID=Europe/Berlin;VALUE=DATE:20181006
DTEND;TZID=Europe/Berlin;VALUE=DATE:20181007
SEQUENCE:0
TRANSP:OPAQUE
END:VEVENT
END:VCALENDAR