BEGIN:VCALENDAR
VERSION:2.0
PRODID:-//jEvents 2.0 for Joomla//EN
CALSCALE:GREGORIAN
METHOD:PUBLISH
BEGIN:VTIMEZONE
TZID:Europe/Berlin
BEGIN:STANDARD
DTSTART:20171105T000000
RDATE:20180325T030000
TZOFFSETFROM:+0200
TZOFFSETTO:+0100
TZNAME:Europe/Berlin CET
END:STANDARD
BEGIN:STANDARD
DTSTART:20181028T020000
RDATE:20190331T030000
TZOFFSETFROM:+0200
TZOFFSETTO:+0100
TZNAME:Europe/Berlin CET
END:STANDARD
BEGIN:STANDARD
DTSTART:20191027T020000
RDATE:20200329T030000
TZOFFSETFROM:+0200
TZOFFSETTO:+0100
TZNAME:Europe/Berlin CET
END:STANDARD
BEGIN:STANDARD
DTSTART:20201025T020000
RDATE:20210328T030000
TZOFFSETFROM:+0200
TZOFFSETTO:+0100
TZNAME:Europe/Berlin CET
END:STANDARD
BEGIN:DAYLIGHT
DTSTART:20180325T030000
RDATE:20181028T020000
TZOFFSETFROM:+0100
TZOFFSETTO:+0200
TZNAME:Europe/Berlin CEST
END:DAYLIGHT
BEGIN:DAYLIGHT
DTSTART:20190331T030000
RDATE:20191027T020000
TZOFFSETFROM:+0100
TZOFFSETTO:+0200
TZNAME:Europe/Berlin CEST
END:DAYLIGHT
BEGIN:DAYLIGHT
DTSTART:20200329T030000
RDATE:20201025T020000
TZOFFSETFROM:+0100
TZOFFSETTO:+0200
TZNAME:Europe/Berlin CEST
END:DAYLIGHT
END:VTIMEZONE
BEGIN:VEVENT
UID:7931a983e67f3cfd94d91fdff17f5a09
CATEGORIES:Crosswindtraining
SUMMARY:SIM & ICAO-ELPT L4+5
DESCRIPTION;ENCODING=QUOTED-PRINTABLE:<p>	SIM & ICAO-ELPT L4+5</p><p>	Dienstag, 6. November</p><p>	<strong>Termin
 buchung auf Voranmeldung</strong> (mind. 2 Wo im Voraus empfohlen)</p><p>	I
 CAO-ELPT Level 4 und 5 Erstprfg.+Verlängerung </p><p>	max. 6 Teilnehmer SIM
  pro Trainingstag, max 8 Teilnehmer ICAO - ELPT</p><p>	Trainer on duty: Tom
  Jülich</p><p>	Sprachprüfer: Carsten Brandt, Tom Jülich</p>
DTSTAMP:20260421T162453Z
DTSTART;TZID=Europe/Berlin;VALUE=DATE:20181106
DTEND;TZID=Europe/Berlin;VALUE=DATE:20181107
SEQUENCE:0
TRANSP:OPAQUE
END:VEVENT
END:VCALENDAR