BEGIN:VCALENDAR
VERSION:2.0
PRODID:-//jEvents 2.0 for Joomla//EN
CALSCALE:GREGORIAN
METHOD:PUBLISH
BEGIN:VTIMEZONE
TZID:Europe/Berlin
BEGIN:STANDARD
DTSTART:20171029T020000
RDATE:20180325T030000
TZOFFSETFROM:+0200
TZOFFSETTO:+0100
TZNAME:Europe/Berlin CET
END:STANDARD
BEGIN:STANDARD
DTSTART:20181028T020000
RDATE:20190331T030000
TZOFFSETFROM:+0200
TZOFFSETTO:+0100
TZNAME:Europe/Berlin CET
END:STANDARD
BEGIN:STANDARD
DTSTART:20191027T020000
RDATE:20200329T030000
TZOFFSETFROM:+0200
TZOFFSETTO:+0100
TZNAME:Europe/Berlin CET
END:STANDARD
BEGIN:STANDARD
DTSTART:20201025T020000
RDATE:20210328T030000
TZOFFSETFROM:+0200
TZOFFSETTO:+0100
TZNAME:Europe/Berlin CET
END:STANDARD
BEGIN:DAYLIGHT
DTSTART:20170407T000000
RDATE:20171029T020000
TZOFFSETFROM:+0100
TZOFFSETTO:+0200
TZNAME:Europe/Berlin CEST
END:DAYLIGHT
BEGIN:DAYLIGHT
DTSTART:20180325T030000
RDATE:20181028T020000
TZOFFSETFROM:+0100
TZOFFSETTO:+0200
TZNAME:Europe/Berlin CEST
END:DAYLIGHT
BEGIN:DAYLIGHT
DTSTART:20190331T030000
RDATE:20191027T020000
TZOFFSETFROM:+0100
TZOFFSETTO:+0200
TZNAME:Europe/Berlin CEST
END:DAYLIGHT
BEGIN:DAYLIGHT
DTSTART:20200329T030000
RDATE:20201025T020000
TZOFFSETFROM:+0100
TZOFFSETTO:+0200
TZNAME:Europe/Berlin CEST
END:DAYLIGHT
END:VTIMEZONE
BEGIN:VEVENT
UID:2d521a560179899d8fb741110191c411
CATEGORIES:Crosswindtraining
SUMMARY:Special: Taildrager SIM&FLY
DESCRIPTION;ENCODING=QUOTED-PRINTABLE:<p>	SIM&FLY</p><p>	Für Taildrager Piloten wird an diesem Trainingstag zusät
 zlich ein Theorie-Modul angeboten, das die spezifische Problematik der Hand
 habung von Spornradflugzeugen bei Crosswindlandungen eingehend behandelt (Z
 usatzkosten: 85,- EUR). Trainingsbeginn: 11:00 loc</p><p>	Trainer on duty: 
 Enriko Kümmel</p>
DTSTAMP:20260421T144932Z
DTSTART;TZID=Europe/Berlin;VALUE=DATE:20180408
DTEND;TZID=Europe/Berlin;VALUE=DATE:20180409
SEQUENCE:0
TRANSP:OPAQUE
END:VEVENT
END:VCALENDAR