BEGIN:VCALENDAR
VERSION:2.0
PRODID:-//jEvents 2.0 for Joomla//EN
CALSCALE:GREGORIAN
METHOD:PUBLISH
BEGIN:VTIMEZONE
TZID:Europe/Berlin
BEGIN:STANDARD
DTSTART:20171029T020000
RDATE:20180325T030000
TZOFFSETFROM:+0200
TZOFFSETTO:+0100
TZNAME:Europe/Berlin CET
END:STANDARD
BEGIN:STANDARD
DTSTART:20181028T020000
RDATE:20190331T030000
TZOFFSETFROM:+0200
TZOFFSETTO:+0100
TZNAME:Europe/Berlin CET
END:STANDARD
BEGIN:STANDARD
DTSTART:20191027T020000
RDATE:20200329T030000
TZOFFSETFROM:+0200
TZOFFSETTO:+0100
TZNAME:Europe/Berlin CET
END:STANDARD
BEGIN:STANDARD
DTSTART:20201025T020000
RDATE:20210328T030000
TZOFFSETFROM:+0200
TZOFFSETTO:+0100
TZNAME:Europe/Berlin CET
END:STANDARD
BEGIN:DAYLIGHT
DTSTART:20170731T000000
RDATE:20171029T020000
TZOFFSETFROM:+0100
TZOFFSETTO:+0200
TZNAME:Europe/Berlin CEST
END:DAYLIGHT
BEGIN:DAYLIGHT
DTSTART:20180325T030000
RDATE:20181028T020000
TZOFFSETFROM:+0100
TZOFFSETTO:+0200
TZNAME:Europe/Berlin CEST
END:DAYLIGHT
BEGIN:DAYLIGHT
DTSTART:20190331T030000
RDATE:20191027T020000
TZOFFSETFROM:+0100
TZOFFSETTO:+0200
TZNAME:Europe/Berlin CEST
END:DAYLIGHT
BEGIN:DAYLIGHT
DTSTART:20200329T030000
RDATE:20201025T020000
TZOFFSETFROM:+0100
TZOFFSETTO:+0200
TZNAME:Europe/Berlin CEST
END:DAYLIGHT
END:VTIMEZONE
BEGIN:VEVENT
UID:41bff3c113eb8a427f37129cb561ec42
CATEGORIES:Messen & Veranstaltungen
SUMMARY:Fluglehrerlehrgang FI-U25
DESCRIPTION;ENCODING=QUOTED-PRINTABLE:						\n\n				 \n			\n\n				Weltpremiere: Erster FI-Lehrgang mit gleichzeit
 iger Qualifikation zum Trainer am Crosswindsimulator Xwind200 im Xwint Trai
 ning Center Germany\n																		\n\n							Die Teilnehmer des Lehrga
 ngs werden sowohl für die FI-Ausbildung wie auch für die Ausbildung am Xwin
 d Training Center Germany eine Leistung erhalten die getragen von ehrenamtl
 ichen Engagement und Sponsorship ihnen eine frühe Qualifikation ermöglicht.
  \n						\n\n							Jung Fluglehrer werden zu können bietet die Möglichkeit
  früh und unverkrampft Erfahrung als Fluglehrer sammeln und weitergeben  zu
  können. Neue gesellschaftliche und technische Strömungen finden Eingang in
  die Flugschulung und der oben erwähnte Generationen-Gap bei den Fluglehrer
 n wird wieder geschlossen.\n															\n\n				 \n																		\n\
 n							Teilnehmer\n																								\n\n							Der Lehrgang setzt s
 ich aus maximal 8 jungen Teilnehmern unter 25 zusammen,\n															\n\
 n				Es findet ein FI(A) Lehrgang im Luftsportverein Straubing e.V. statt. 
 Der Verein ist im Luftsport Verband Bayern e.V für die Durchführung des FI(
 A) Lehrgangs innerhalb der ATO DE-BY-ATO.005 qualifiziert.\n			\n\n				Die 
 Ausbildungsleitung liegt beim Vereinsausbildungsleiter Motorflug des LSV St
 raubing. Dieser wird unterstützt durch qualifizierte und ehrenamtlich tätig
 e Theorielehrer und Fluglehrer-Lehrer und technisches Personal des LSV Stra
 ubing. Die Vereinsmitglieder verzichten in der Lehrgangszeit auf die Reserv
 ierungsnutzung der eingesetzten Motorflugzeuge und stellen die Infrastruktu
 r zur Verfügung.\n			\n\n				Es beginnt mit dem 25 stündigen Lehrgang Lehre
 n und Lernen. Anschließend werden jeweils 100 Stunden Theorieunterricht, 25
  Stunden praktische Flugschulung und eine Kompetenzbeurteilung als FI(A) du
 rchgeführt.\n			\n\n				Die Flugzeuge sind die Ausbildungsflugzeuge des LSV
  Straubings und durch Sponsoren zur Verfügung gestellte Flugzeuge, die in d
 ie Ausbildung gemeldet werden und beinhalten einfache Trainer, komplexe Mot
 orflugzeuge, Kunstflugdoppelsitzer und Spornradflugzeuge.\n			\n\n				Ergän
 zend werden die jungen FIs am Crosswindsimulator im Xwind Training Center i
 n EDHF trainieren und die Unterrichtsberechtigung am Xwind Training Center 
 Germany erhalten. Diese Ausbildung wird u.a. durch folgende Sponsoren ermög
 licht:\n			\n\n				Dachsel Flugmotorenreparatur GmbH\n			\n\n				Porta Air 
 Service GmbH&CoKG\n			\n\n				Verband der Luftfahrtsachverständigen e.V\n		
 	\n\n				Global Aviation Piper parts GmbH\n			\n\n				Scan Aviation GmbH\n	
 		\n\n				aps Aviation Part Service GmbH Wolfgang Dillbaum\n			\n\n				Hans
  Obermeier "Mr. Beechcraft"\n			\n\n				Xwind Airfield-Guide Anja Wolffson\
 n			\n\n				 \n			
DTSTAMP:20260421T131445Z
DTSTART;TZID=Europe/Berlin;VALUE=DATE:20180801
DTEND;TZID=Europe/Berlin;VALUE=DATE:20180803
SEQUENCE:0
TRANSP:OPAQUE
END:VEVENT
END:VCALENDAR