BEGIN:VCALENDAR
VERSION:2.0
PRODID:-//jEvents 2.0 for Joomla//EN
CALSCALE:GREGORIAN
METHOD:PUBLISH
BEGIN:VTIMEZONE
TZID:Europe/Berlin
BEGIN:STANDARD
DTSTART:20190221T000000
RDATE:20190331T030000
TZOFFSETFROM:+0200
TZOFFSETTO:+0100
TZNAME:Europe/Berlin CET
END:STANDARD
BEGIN:STANDARD
DTSTART:20191027T020000
RDATE:20200329T030000
TZOFFSETFROM:+0200
TZOFFSETTO:+0100
TZNAME:Europe/Berlin CET
END:STANDARD
BEGIN:STANDARD
DTSTART:20201025T020000
RDATE:20210328T030000
TZOFFSETFROM:+0200
TZOFFSETTO:+0100
TZNAME:Europe/Berlin CET
END:STANDARD
BEGIN:DAYLIGHT
DTSTART:20190331T030000
RDATE:20191027T020000
TZOFFSETFROM:+0100
TZOFFSETTO:+0200
TZNAME:Europe/Berlin CEST
END:DAYLIGHT
BEGIN:DAYLIGHT
DTSTART:20200329T030000
RDATE:20201025T020000
TZOFFSETFROM:+0100
TZOFFSETTO:+0200
TZNAME:Europe/Berlin CEST
END:DAYLIGHT
END:VTIMEZONE
BEGIN:VEVENT
UID:5e8db4104e9d2cddb47b588552b06a93
CATEGORIES:Crosswindtraining
SUMMARY:SIM&FLY Trainingstage ab/bis
DESCRIPTION;ENCODING=QUOTED-PRINTABLE:<p style="margin: 0px 0px 10px; border: none; line-height: 1.5em; caret-col
 or: rgb(34, 34, 34); color: rgb(34, 34, 34); font-family: &quot;Open Sans&q
 uot;; font-size: 15px;">	Samstag, 22. Februar 2020</p><p style="margin: 0px
  0px 10px; border: none; line-height: 1.5em; caret-color: rgb(34, 34, 34); 
 color: rgb(34, 34, 34); font-family: &quot;Open Sans&quot;; font-size: 15px
 ;">	Sonntag 23. Februar</p><p style="margin: 0px 0px 10px; border: none; li
 ne-height: 1.5em; caret-color: rgb(34, 34, 34); color: rgb(34, 34, 34); fon
 t-family: &quot;Open Sans&quot;; font-size: 15px;">	<strong>Terminbuchung a
 uf Voranmeldung</strong> (mind. 2 Wo im Voraus empfohlen)</p><p style="marg
 in: 0px 0px 10px; border: none; line-height: 1.5em; caret-color: rgb(34, 34
 , 34); color: rgb(34, 34, 34); font-family: &quot;Open Sans&quot;; font-siz
 e: 15px;">	ICAO-ELPT Level 4  Erstprfg.+Verlängerung auf Anfrage möglich</p
 ><p style="margin: 0px 0px 10px; border: none; line-height: 1.5em; caret-co
 lor: rgb(34, 34, 34); color: rgb(34, 34, 34); font-family: &quot;Open Sans&
 quot;; font-size: 15px;">	max. 6 Teilnehmer SIM pro Trainingstag</p><p styl
 e="margin: 0px 0px 10px; border: none; line-height: 1.5em; caret-color: rgb
 (34, 34, 34); color: rgb(34, 34, 34); font-family: &quot;Open Sans&quot;; f
 ont-size: 15px;">	max 8 Teilnehmer für ICAO - ELPT / Verlängerung</p><p sty
 le="margin: 0px 0px 10px; border: none; line-height: 1.5em; caret-color: rg
 b(34, 34, 34); color: rgb(34, 34, 34); font-family: &quot;Open Sans&quot;; 
 font-size: 15px;">	Trainer on duty: NN</p>
DTSTAMP:20260421T125657Z
DTSTART;TZID=Europe/Berlin;VALUE=DATE:20200222
DTEND;TZID=Europe/Berlin;VALUE=DATE:20200224
SEQUENCE:0
TRANSP:OPAQUE
END:VEVENT
END:VCALENDAR