BEGIN:VCALENDAR
VERSION:2.0
PRODID:-//jEvents 2.0 for Joomla//EN
CALSCALE:GREGORIAN
METHOD:PUBLISH
BEGIN:VTIMEZONE
TZID:Europe/Berlin
BEGIN:STANDARD
DTSTART:20190301T000000
RDATE:20190331T030000
TZOFFSETFROM:+0200
TZOFFSETTO:+0100
TZNAME:Europe/Berlin CET
END:STANDARD
BEGIN:STANDARD
DTSTART:20191027T020000
RDATE:20200329T030000
TZOFFSETFROM:+0200
TZOFFSETTO:+0100
TZNAME:Europe/Berlin CET
END:STANDARD
BEGIN:STANDARD
DTSTART:20201025T020000
RDATE:20210328T030000
TZOFFSETFROM:+0200
TZOFFSETTO:+0100
TZNAME:Europe/Berlin CET
END:STANDARD
BEGIN:DAYLIGHT
DTSTART:20190331T030000
RDATE:20191027T020000
TZOFFSETFROM:+0100
TZOFFSETTO:+0200
TZNAME:Europe/Berlin CEST
END:DAYLIGHT
BEGIN:DAYLIGHT
DTSTART:20200329T030000
RDATE:20201025T020000
TZOFFSETFROM:+0100
TZOFFSETTO:+0200
TZNAME:Europe/Berlin CEST
END:DAYLIGHT
END:VTIMEZONE
BEGIN:VEVENT
UID:f801abfafe269ca14aa1f668299500b8
CATEGORIES:Crosswindtraining
SUMMARY:SIM&FLY März -keine Trainings-
DESCRIPTION;ENCODING=QUOTED-PRINTABLE:<p style="margin: 0px 0px 10px; border: none; line-height: 1.5em; caret-col
 or: rgb(34, 34, 34); color: rgb(34, 34, 34); font-family: &quot;Open Sans&q
 uot;; font-size: 15px; text-align: center;">	Leider können wir aufgrund der
  aktuellen Corona-Lage </p><p style="margin: 0px 0px 10px; border: none; li
 ne-height: 1.5em; caret-color: rgb(34, 34, 34); color: rgb(34, 34, 34); fon
 t-family: &quot;Open Sans&quot;; font-size: 15px; text-align: center;">	kei
 ne Termine für SIM&FLY im März anbieten.</p><p style="margin: 0px 0px 10px;
  border: none; line-height: 1.5em; caret-color: rgb(34, 34, 34); color: rgb
 (34, 34, 34); font-family: &quot;Open Sans&quot;; font-size: 15px; text-ali
 gn: center;">	Behördlicherseits sind uns zum einen die touristische Einreis
 e nach Schleswig-Holstein und zum anderen jegliche Zusammenkünfte auch im k
 leinen Kreis untersagt worden.</p><p style="margin: 0px 0px 10px; border: n
 one; line-height: 1.5em; caret-color: rgb(34, 34, 34); color: rgb(34, 34, 3
 4); font-family: &quot;Open Sans&quot;; font-size: 15px; text-align: center
 ;">	Ihre Terminanfragen für einen späteren Zeitpunkt nehme ich selbstverstä
 ndlich gern entgegen. Verbindliche Absprachen sind von der dann aktuellen L
 age abhängig.</p><p style="margin: 0px 0px 10px; border: none; line-height:
  1.5em; caret-color: rgb(34, 34, 34); color: rgb(34, 34, 34); font-family: 
 &quot;Open Sans&quot;; font-size: 15px; text-align: center;">	Bleiben Sie g
 esund! </p><p style="margin: 0px 0px 10px; border: none; line-height: 1.5em
 ; caret-color: rgb(34, 34, 34); color: rgb(34, 34, 34); font-family: &quot;
 Open Sans&quot;; font-size: 15px; text-align: center;">	 -auf dass wir dana
 ch eine wunderbare Flugsaison haben werden!</p>
DTSTAMP:20260421T125703Z
DTSTART;TZID=Europe/Berlin;VALUE=DATE:20200301
DTEND;TZID=Europe/Berlin;VALUE=DATE:20200327
SEQUENCE:0
TRANSP:OPAQUE
END:VEVENT
END:VCALENDAR