BEGIN:VCALENDAR
VERSION:2.0
PRODID:-//jEvents 2.0 for Joomla//EN
CALSCALE:GREGORIAN
METHOD:PUBLISH
BEGIN:VTIMEZONE
TZID:Europe/Berlin
BEGIN:STANDARD
DTSTART:20190317T000000
RDATE:20190331T030000
TZOFFSETFROM:+0200
TZOFFSETTO:+0100
TZNAME:Europe/Berlin CET
END:STANDARD
BEGIN:STANDARD
DTSTART:20191027T020000
RDATE:20200329T030000
TZOFFSETFROM:+0200
TZOFFSETTO:+0100
TZNAME:Europe/Berlin CET
END:STANDARD
BEGIN:STANDARD
DTSTART:20201025T020000
RDATE:20210328T030000
TZOFFSETFROM:+0200
TZOFFSETTO:+0100
TZNAME:Europe/Berlin CET
END:STANDARD
BEGIN:DAYLIGHT
DTSTART:20190331T030000
RDATE:20191027T020000
TZOFFSETFROM:+0100
TZOFFSETTO:+0200
TZNAME:Europe/Berlin CEST
END:DAYLIGHT
BEGIN:DAYLIGHT
DTSTART:20200329T030000
RDATE:20201025T020000
TZOFFSETFROM:+0100
TZOFFSETTO:+0200
TZNAME:Europe/Berlin CEST
END:DAYLIGHT
END:VTIMEZONE
BEGIN:VEVENT
UID:9fb77604e9b03e63cb6a75c3dd45f45d
CATEGORIES:Crosswindtraining
SUMMARY:SIM&FLY April -keine Trainings-
DESCRIPTION;ENCODING=QUOTED-PRINTABLE:	Leider können wir aufgrund der aktuellen Corona-Lage\n	keine Termine für S
 IM&FLY im April anbieten.\n	Behördlicherseits sind uns zum einen die touris
 tische Einreise nach Schleswig-Holstein und zum anderen jegliche Zusammenkü
 nfte auch im kleinen Kreis untersagt worden.\n	Ihre Terminanfragen für eine
 n späteren Zeitpunkt nehme ich selbstverständlich gern entgegen. Verbindlic
 he Absprachen sind von der dann aktuellen Lage abhängig.\n	Bleiben Sie gesu
 nd!\n	 -auf dass wir danach eine wunderbare Flugsaison haben werden!\n
DTSTAMP:20260421T114100Z
DTSTART;TZID=Europe/Berlin;VALUE=DATE:20200317
DTEND;TZID=Europe/Berlin;VALUE=DATE:20200430
SEQUENCE:0
TRANSP:OPAQUE
END:VEVENT
END:VCALENDAR