BEGIN:VCALENDAR
VERSION:2.0
PRODID:-//jEvents 2.0 for Joomla//EN
CALSCALE:GREGORIAN
METHOD:PUBLISH
BEGIN:VTIMEZONE
TZID:Europe/Berlin
BEGIN:STANDARD
DTSTART:20191027T020000
RDATE:20200329T030000
TZOFFSETFROM:+0200
TZOFFSETTO:+0100
TZNAME:Europe/Berlin CET
END:STANDARD
BEGIN:STANDARD
DTSTART:20201025T020000
RDATE:20210328T030000
TZOFFSETFROM:+0200
TZOFFSETTO:+0100
TZNAME:Europe/Berlin CET
END:STANDARD
BEGIN:DAYLIGHT
DTSTART:20190524T000000
RDATE:20191027T020000
TZOFFSETFROM:+0100
TZOFFSETTO:+0200
TZNAME:Europe/Berlin CEST
END:DAYLIGHT
BEGIN:DAYLIGHT
DTSTART:20200329T030000
RDATE:20201025T020000
TZOFFSETFROM:+0100
TZOFFSETTO:+0200
TZNAME:Europe/Berlin CEST
END:DAYLIGHT
END:VTIMEZONE
BEGIN:VEVENT
UID:58c88a5501fccda663b79afc94384c8c
CATEGORIES:Crosswindtraining
SUMMARY:SIM&FLY Mai - according corona-rules
DESCRIPTION;ENCODING=QUOTED-PRINTABLE:<p style="margin: 0px 0px 10px; border: none; line-height: 1.5em; caret-col
 or: rgb(34, 34, 34); color: rgb(34, 34, 34); font-family: &quot;Open Sans&q
 uot;; font-size: 15px; text-align: center;">	Moin, moin, liebe Piloten und 
 Pilotinnen,</p><p style="margin: 0px 0px 10px; border: none; line-height: 1
 .5em; caret-color: rgb(34, 34, 34); color: rgb(34, 34, 34); font-family: &q
 uot;Open Sans&quot;; font-size: 15px; text-align: center;">	<strong>ab sofo
 rt können wir wieder Termine für SIM&FLY im Mai anbieten!</strong></p><p st
 yle="margin: 0px 0px 10px; border: none; line-height: 1.5em; caret-color: r
 gb(34, 34, 34); color: rgb(34, 34, 34); font-family: &quot;Open Sans&quot;;
  font-size: 15px; text-align: center;">	<strong><em>>> Many happy Xwind-lan
 dings!!!!</em></strong></p><p style="margin: 0px 0px 10px; border: none; li
 ne-height: 1.5em; caret-color: rgb(34, 34, 34); color: rgb(34, 34, 34); fon
 t-family: &quot;Open Sans&quot;; font-size: 15px; text-align: center;">	 </
 p><p style="margin: 0px 0px 10px; border: none; line-height: 1.5em; caret-c
 olor: rgb(34, 34, 34); color: rgb(34, 34, 34); font-family: &quot;Open Sans
 &quot;; font-size: 15px; text-align: center;">	Behördlicherseits sind Schul
 ungen und damit auch unser Training wieder erlaubt.</p><p style="margin: 0p
 x 0px 10px; border: none; line-height: 1.5em; caret-color: rgb(34, 34, 34);
  color: rgb(34, 34, 34); font-family: &quot;Open Sans&quot;; font-size: 15p
 x; text-align: center;">	Das Theoriebriefing in unserem Schulungsraum werde
 n wir vorläufig auf max. 4 Piloten begrenzen, Begleitpersonen können zur Ze
 it leider nicht aufgenommen werden und beim SIM-Training werden wir keine Z
 uschauer zulassen können.</p><p style="margin: 0px 0px 10px; border: none; 
 line-height: 1.5em; caret-color: rgb(34, 34, 34); color: rgb(34, 34, 34); f
 ont-family: &quot;Open Sans&quot;; font-size: 15px; text-align: center;">	A
 uch bei uns müssen natürlich die erforderlichen Abstands- und Hygieneregeln
  eingehalten werden und wir müssen Masken (Visir/Mundschutz) tragen. Sitzpl
 ätze / Tische /Simulator / Cockpit werden regelmäßig desinfiziert werden. B
 itte bringen Sie für Flugtraining unbedingt Ihr eigenes Headset mit!</p><p 
 style="margin: 0px 0px 10px; border: none; line-height: 1.5em; caret-color:
  rgb(34, 34, 34); color: rgb(34, 34, 34); font-family: &quot;Open Sans&quot
 ;; font-size: 15px; text-align: center;">	Sie werden  -mit Abstand- und sic
 her viel Spaß die interessantesten und erfahrungsreichsten Lehrstunden im U
 mgang mit Seitenwind bei unserm kompetenten und hochmotivierten Trainerteam
  im XwindTrainingCenterGermany am Hungrigen Wolf erleben!</p><p style="marg
 in: 0px 0px 10px; border: none; line-height: 1.5em; caret-color: rgb(34, 34
 , 34); color: rgb(34, 34, 34); font-family: &quot;Open Sans&quot;; font-siz
 e: 15px; text-align: center;">	Melden Sie sich gern mit Ihrem Terminwunsch 
 bei mir unter anja(at)wolffson.de.</p><p style="margin: 0px 0px 10px; borde
 r: none; line-height: 1.5em; caret-color: rgb(34, 34, 34); color: rgb(34, 3
 4, 34); font-family: &quot;Open Sans&quot;; font-size: 15px; text-align: ce
 nter;">	Stay happy, safe and healthy, - wir freuen uns auf Sie!</p><p style
 ="margin: 0px 0px 10px; border: none; line-height: 1.5em; caret-color: rgb(
 34, 34, 34); color: rgb(34, 34, 34); font-family: &quot;Open Sans&quot;; fo
 nt-size: 15px; text-align: center;">	<strong><em>Ihre Anja Wolffson & Team<
 /em></strong></p><p style="margin: 0px 0px 10px; border: none; line-height:
  1.5em; caret-color: rgb(34, 34, 34); color: rgb(34, 34, 34); font-family: 
 &quot;Open Sans&quot;; font-size: 15px; text-align: center;">	 </p>
DTSTAMP:20260421T114154Z
DTSTART;TZID=Europe/Berlin;VALUE=DATE:20200524
DTEND;TZID=Europe/Berlin;VALUE=DATE:20200601
SEQUENCE:0
TRANSP:OPAQUE
END:VEVENT
END:VCALENDAR