BEGIN:VCALENDAR
VERSION:2.0
PRODID:-//jEvents 2.0 for Joomla//EN
CALSCALE:GREGORIAN
METHOD:PUBLISH
BEGIN:VTIMEZONE
TZID:Europe/Berlin
BEGIN:STANDARD
DTSTART:20191027T020000
RDATE:20200329T030000
TZOFFSETFROM:+0200
TZOFFSETTO:+0100
TZNAME:Europe/Berlin CET
END:STANDARD
BEGIN:STANDARD
DTSTART:20201025T020000
RDATE:20210328T030000
TZOFFSETFROM:+0200
TZOFFSETTO:+0100
TZNAME:Europe/Berlin CET
END:STANDARD
BEGIN:DAYLIGHT
DTSTART:20190601T000000
RDATE:20191027T020000
TZOFFSETFROM:+0100
TZOFFSETTO:+0200
TZNAME:Europe/Berlin CEST
END:DAYLIGHT
BEGIN:DAYLIGHT
DTSTART:20200329T030000
RDATE:20201025T020000
TZOFFSETFROM:+0100
TZOFFSETTO:+0200
TZNAME:Europe/Berlin CEST
END:DAYLIGHT
END:VTIMEZONE
BEGIN:VEVENT
UID:8b70c9023bc870cac1fdc2633fb7293d
CATEGORIES:Crosswindtraining
SUMMARY:SIM&FLY Juni
DESCRIPTION;ENCODING=QUOTED-PRINTABLE:<p style="margin: 0px 0px 10px; border: none; line-height: 1.5em; caret-col
 or: rgb(34, 34, 34); color: rgb(34, 34, 34); font-family: &quot;Open Sans&q
 uot;; font-size: 15px;">	Montag, 1. Juni   bis   Freitag<span style="font-s
 tyle: inherit; font-variant-caps: inherit;">, 19. Juni</span></p><p style="
 margin: 0px 0px 10px; border: none; line-height: 1.5em; caret-color: rgb(34
 , 34, 34); color: rgb(34, 34, 34); font-family: &quot;Open Sans&quot;; font
 -size: 15px;">	 (jeweils alternativ buchbare Tage)</p><p style="margin: 0px
  0px 10px; border: none; line-height: 1.5em; caret-color: rgb(34, 34, 34); 
 color: rgb(34, 34, 34); font-family: &quot;Open Sans&quot;; font-size: 15px
 ;">	<strong style="font-style: inherit; font-variant-caps: inherit;">Termin
 buchung auf Voranmeldung</strong><span style="font-style: inherit; font-var
 iant-caps: inherit;"> (mind. 2 Wo im Voraus empfohlen)</span></p><p style="
 margin: 0px 0px 10px; border: none; line-height: 1.5em; caret-color: rgb(34
 , 34, 34); color: rgb(34, 34, 34); font-family: &quot;Open Sans&quot;; font
 -size: 15px;">	ICAO-ELPT Level 4  Erstprfg.+Verlängerung auf Anfrage möglic
 h</p><p style="margin: 0px 0px 10px; border: none; line-height: 1.5em; care
 t-color: rgb(34, 34, 34); color: rgb(34, 34, 34); font-family: &quot;Open S
 ans&quot;; font-size: 15px;">	max. 6 Teilnehmer SIM pro Trainingstag </p><p
  style="margin: 0px 0px 10px; border: none; line-height: 1.5em; caret-color
 : rgb(34, 34, 34); color: rgb(34, 34, 34); font-family: &quot;Open Sans&quo
 t;; font-size: 15px;">	max 8 Teilnehmer ICAO - ELPT / Verlängerung L4</p><p
  style="margin: 0px 0px 10px; border: none; line-height: 1.5em; caret-color
 : rgb(34, 34, 34); color: rgb(34, 34, 34); font-family: &quot;Open Sans&quo
 t;; font-size: 15px;">	Trainer on duty: NN</p>
DTSTAMP:20260421T101121Z
DTSTART;TZID=Europe/Berlin;VALUE=DATE:20200601
DTEND;TZID=Europe/Berlin;VALUE=DATE:20200620
SEQUENCE:0
TRANSP:OPAQUE
END:VEVENT
END:VCALENDAR