BEGIN:VCALENDAR
VERSION:2.0
PRODID:-//jEvents 2.0 for Joomla//EN
CALSCALE:GREGORIAN
METHOD:PUBLISH
BEGIN:VTIMEZONE
TZID:Europe/Berlin
BEGIN:STANDARD
DTSTART:20191027T020000
RDATE:20200329T030000
TZOFFSETFROM:+0200
TZOFFSETTO:+0100
TZNAME:Europe/Berlin CET
END:STANDARD
BEGIN:STANDARD
DTSTART:20201025T020000
RDATE:20210328T030000
TZOFFSETFROM:+0200
TZOFFSETTO:+0100
TZNAME:Europe/Berlin CET
END:STANDARD
BEGIN:DAYLIGHT
DTSTART:20191001T000000
RDATE:20191027T020000
TZOFFSETFROM:+0100
TZOFFSETTO:+0200
TZNAME:Europe/Berlin CEST
END:DAYLIGHT
BEGIN:DAYLIGHT
DTSTART:20200329T030000
RDATE:20201025T020000
TZOFFSETFROM:+0100
TZOFFSETTO:+0200
TZNAME:Europe/Berlin CEST
END:DAYLIGHT
END:VTIMEZONE
BEGIN:VEVENT
UID:3756099a5f69461065aac2d221606d6e
CATEGORIES:Crosswindtraining
SUMMARY:SIM&FLY Oktober
DESCRIPTION;ENCODING=QUOTED-PRINTABLE:<p style="margin: 0px 0px 10px; border: none; line-height: 1.5em; caret-col
 or: rgb(34, 34, 34); color: rgb(34, 34, 34); font-family: &quot;Open Sans&q
 uot;; font-size: 15px;">	Donnerstag, 1. Oktober   bis   Mon<span style="fon
 t-style: inherit; font-variant-caps: inherit;">tag, 5. Oktober </span></p><
 p style="margin: 0px 0px 10px; border: none; line-height: 1.5em; caret-colo
 r: rgb(34, 34, 34); color: rgb(34, 34, 34); font-family: &quot;Open Sans&qu
 ot;; font-size: 15px;">	Sonnabend,  24. Oktober   bis  Montag 26. Oktober</
 p><p style="margin: 0px 0px 10px; border: none; line-height: 1.5em; caret-c
 olor: rgb(34, 34, 34); color: rgb(34, 34, 34); font-family: &quot;Open Sans
 &quot;; font-size: 15px;">	 (jeweils alternativ buchbare Tage)</p><p style=
 "margin: 0px 0px 10px; border: none; line-height: 1.5em; caret-color: rgb(3
 4, 34, 34); color: rgb(34, 34, 34); font-family: &quot;Open Sans&quot;; fon
 t-size: 15px;">	<strong style="font-style: inherit; font-variant-caps: inhe
 rit;">Terminbuchung auf Voranmeldung</strong><span style="font-style: inher
 it; font-variant-caps: inherit;"> (mind. 2 Wo im Voraus empfohlen)</span></
 p><p style="margin: 0px 0px 10px; border: none; line-height: 1.5em; caret-c
 olor: rgb(34, 34, 34); color: rgb(34, 34, 34); font-family: &quot;Open Sans
 &quot;; font-size: 15px;">	ICAO-ELPT Level 4  Erstprfg.+Verlängerung auf An
 frage möglich</p><p style="margin: 0px 0px 10px; border: none; line-height:
  1.5em; caret-color: rgb(34, 34, 34); color: rgb(34, 34, 34); font-family: 
 &quot;Open Sans&quot;; font-size: 15px;">	max. 6 Teilnehmer SIM pro Trainin
 gstag </p><p style="margin: 0px 0px 10px; border: none; line-height: 1.5em;
  caret-color: rgb(34, 34, 34); color: rgb(34, 34, 34); font-family: &quot;O
 pen Sans&quot;; font-size: 15px;">	max 8 Teilnehmer ICAO - ELPT / Verlänger
 ung L4</p><p style="margin: 0px 0px 10px; border: none; line-height: 1.5em;
  caret-color: rgb(34, 34, 34); color: rgb(34, 34, 34); font-family: &quot;O
 pen Sans&quot;; font-size: 15px;">	Trainer on duty: NN</p>
DTSTAMP:20260421T125802Z
DTSTART;TZID=Europe/Berlin;VALUE=DATE:20201001
DTEND;TZID=Europe/Berlin;VALUE=DATE:20201027
SEQUENCE:0
TRANSP:OPAQUE
END:VEVENT
END:VCALENDAR