BEGIN:VCALENDAR
VERSION:2.0
PRODID:-//jEvents 2.0 for Joomla//EN
CALSCALE:GREGORIAN
METHOD:PUBLISH
BEGIN:VTIMEZONE
TZID:Europe/Berlin
BEGIN:STANDARD
DTSTART:20191101T000000
RDATE:20200329T030000
TZOFFSETFROM:+0200
TZOFFSETTO:+0100
TZNAME:Europe/Berlin CET
END:STANDARD
BEGIN:STANDARD
DTSTART:20201025T020000
RDATE:20210328T030000
TZOFFSETFROM:+0200
TZOFFSETTO:+0100
TZNAME:Europe/Berlin CET
END:STANDARD
BEGIN:DAYLIGHT
DTSTART:20200329T030000
RDATE:20201025T020000
TZOFFSETFROM:+0100
TZOFFSETTO:+0200
TZNAME:Europe/Berlin CEST
END:DAYLIGHT
END:VTIMEZONE
BEGIN:VEVENT
UID:9193aa952487ceebfaa33c20ee2591fd
CATEGORIES:Crosswindtraining
SUMMARY:SIM&FLY November
DESCRIPTION;ENCODING=QUOTED-PRINTABLE:	Sonntag, 1. November   bis   Freitag, 13. November \n	Freitag,  20. Novemb
 er   bis  Sonnabend 28. November\n	 (jeweils alternativ buchbare Tage)\n	Te
 rminbuchung auf Voranmeldung (mind. 2 Wo im Voraus empfohlen)\n	ICAO-ELPT L
 evel 4  Erstprfg.+Verlängerung auf Anfrage möglich\n	max. 6 Teilnehmer SIM 
 pro Trainingstag \n	max 8 Teilnehmer ICAO - ELPT / Verlängerung L4\n	Traine
 r on duty: NN\n
DTSTAMP:20260421T125116Z
DTSTART;TZID=Europe/Berlin;VALUE=DATE:20201101
DTEND;TZID=Europe/Berlin;VALUE=DATE:20201129
SEQUENCE:0
TRANSP:OPAQUE
END:VEVENT
END:VCALENDAR