BEGIN:VCALENDAR
VERSION:2.0
PRODID:-//jEvents 2.0 for Joomla//EN
CALSCALE:GREGORIAN
METHOD:PUBLISH
BEGIN:VTIMEZONE
TZID:Europe/Berlin
BEGIN:STANDARD
DTSTART:20191202T000000
RDATE:20200329T030000
TZOFFSETFROM:+0200
TZOFFSETTO:+0100
TZNAME:Europe/Berlin CET
END:STANDARD
BEGIN:STANDARD
DTSTART:20201025T020000
RDATE:20210328T030000
TZOFFSETFROM:+0200
TZOFFSETTO:+0100
TZNAME:Europe/Berlin CET
END:STANDARD
BEGIN:DAYLIGHT
DTSTART:20200329T030000
RDATE:20201025T020000
TZOFFSETFROM:+0100
TZOFFSETTO:+0200
TZNAME:Europe/Berlin CEST
END:DAYLIGHT
END:VTIMEZONE
BEGIN:VEVENT
UID:08ad2a0293a3a8a248ce9f39813e17c1
CATEGORIES:Crosswindtraining
SUMMARY:SIM&FLY Dezember
DESCRIPTION;ENCODING=QUOTED-PRINTABLE:<p style="margin: 0px 0px 10px; border: none; line-height: 1.5em; caret-col
 or: rgb(34, 34, 34); color: rgb(34, 34, 34); font-family: &quot;Open Sans&q
 uot;; font-size: 15px;">	Mittwoch, 2. Dezember   bis   Mon<span style="font
 -style: inherit; font-variant-caps: inherit;">tag, 14. Dezember </span></p>
 <p style="margin: 0px 0px 10px; border: none; line-height: 1.5em; caret-col
 or: rgb(34, 34, 34); color: rgb(34, 34, 34); font-family: &quot;Open Sans&q
 uot;; font-size: 15px;">	 (jeweils alternativ buchbare Tage)</p><p style="m
 argin: 0px 0px 10px; border: none; line-height: 1.5em; caret-color: rgb(34,
  34, 34); color: rgb(34, 34, 34); font-family: &quot;Open Sans&quot;; font-
 size: 15px;">	<strong style="font-style: inherit; font-variant-caps: inheri
 t;">Terminbuchung auf Voranmeldung</strong><span style="font-style: inherit
 ; font-variant-caps: inherit;"> (mind. 2 Wo im Voraus empfohlen)</span></p>
 <p style="margin: 0px 0px 10px; border: none; line-height: 1.5em; caret-col
 or: rgb(34, 34, 34); color: rgb(34, 34, 34); font-family: &quot;Open Sans&q
 uot;; font-size: 15px;">	ICAO-ELPT Level 4  Erstprfg.+Verlängerung auf Anfr
 age möglich</p><p style="margin: 0px 0px 10px; border: none; line-height: 1
 .5em; caret-color: rgb(34, 34, 34); color: rgb(34, 34, 34); font-family: &q
 uot;Open Sans&quot;; font-size: 15px;">	max. 6 Teilnehmer SIM pro Trainings
 tag </p><p style="margin: 0px 0px 10px; border: none; line-height: 1.5em; c
 aret-color: rgb(34, 34, 34); color: rgb(34, 34, 34); font-family: &quot;Ope
 n Sans&quot;; font-size: 15px;">	max 8 Teilnehmer ICAO - ELPT / Verlängerun
 g L4</p><p style="margin: 0px 0px 10px; border: none; line-height: 1.5em; c
 aret-color: rgb(34, 34, 34); color: rgb(34, 34, 34); font-family: &quot;Ope
 n Sans&quot;; font-size: 15px;">	Trainer on duty: NN</p>
DTSTAMP:20260421T125613Z
DTSTART;TZID=Europe/Berlin;VALUE=DATE:20201202
DTEND;TZID=Europe/Berlin;VALUE=DATE:20201215
SEQUENCE:0
TRANSP:OPAQUE
END:VEVENT
END:VCALENDAR