BEGIN:VCALENDAR
VERSION:2.0
PRODID:-//jEvents 2.0 for Joomla//EN
CALSCALE:GREGORIAN
METHOD:PUBLISH
BEGIN:VTIMEZONE
TZID:Europe/Berlin
BEGIN:STANDARD
DTSTART:20151025T020000
RDATE:20160327T030000
TZOFFSETFROM:+0200
TZOFFSETTO:+0100
TZNAME:Europe/Berlin CET
END:STANDARD
BEGIN:STANDARD
DTSTART:20161030T020000
RDATE:20170326T030000
TZOFFSETFROM:+0200
TZOFFSETTO:+0100
TZNAME:Europe/Berlin CET
END:STANDARD
BEGIN:STANDARD
DTSTART:20171029T020000
RDATE:20180325T030000
TZOFFSETFROM:+0200
TZOFFSETTO:+0100
TZNAME:Europe/Berlin CET
END:STANDARD
BEGIN:STANDARD
DTSTART:20181028T020000
RDATE:20190331T030000
TZOFFSETFROM:+0200
TZOFFSETTO:+0100
TZNAME:Europe/Berlin CET
END:STANDARD
BEGIN:STANDARD
DTSTART:20191027T020000
RDATE:20200329T030000
TZOFFSETFROM:+0200
TZOFFSETTO:+0100
TZNAME:Europe/Berlin CET
END:STANDARD
BEGIN:STANDARD
DTSTART:20201025T020000
RDATE:20210328T030000
TZOFFSETFROM:+0200
TZOFFSETTO:+0100
TZNAME:Europe/Berlin CET
END:STANDARD
BEGIN:DAYLIGHT
DTSTART:20150420T000000
RDATE:20151025T020000
TZOFFSETFROM:+0100
TZOFFSETTO:+0200
TZNAME:Europe/Berlin CEST
END:DAYLIGHT
BEGIN:DAYLIGHT
DTSTART:20160327T030000
RDATE:20161030T020000
TZOFFSETFROM:+0100
TZOFFSETTO:+0200
TZNAME:Europe/Berlin CEST
END:DAYLIGHT
BEGIN:DAYLIGHT
DTSTART:20170326T030000
RDATE:20171029T020000
TZOFFSETFROM:+0100
TZOFFSETTO:+0200
TZNAME:Europe/Berlin CEST
END:DAYLIGHT
BEGIN:DAYLIGHT
DTSTART:20180325T030000
RDATE:20181028T020000
TZOFFSETFROM:+0100
TZOFFSETTO:+0200
TZNAME:Europe/Berlin CEST
END:DAYLIGHT
BEGIN:DAYLIGHT
DTSTART:20190331T030000
RDATE:20191027T020000
TZOFFSETFROM:+0100
TZOFFSETTO:+0200
TZNAME:Europe/Berlin CEST
END:DAYLIGHT
BEGIN:DAYLIGHT
DTSTART:20200329T030000
RDATE:20201025T020000
TZOFFSETFROM:+0100
TZOFFSETTO:+0200
TZNAME:Europe/Berlin CEST
END:DAYLIGHT
END:VTIMEZONE
BEGIN:VEVENT
UID:bea1b595ba03d71651dc627153ed8860
CATEGORIES:Messen & Veranstaltungen
SUMMARY:AERO 2016 Friedrichshafen -Messeaktion und Angebote -
LOCATION:Friedrichshafen
DESCRIPTION;ENCODING=QUOTED-PRINTABLE:\n\n	AERO 2016 Friedrichshafen - Stand A3-101 Aerokurier\n\n\n	The Global S
 how for General Aviation\n\n\n	April 20 – 23, 2016\n\n\n	Xwind goes AERO!\n
 \n\n	Besuchen Sie uns und unser Trainerteam am Xwind Stand A3-101 auf der A
 usstellungsfläche des Aerokurier.\n\n\n	Messeaktion happy landings : PILOTE
 N GEWINNEN SICHERHEIT  sponsored by\n\n\n	AOPA  |  Avionics Academy  |  Aer
 o Technik Klaus Siemers  |  BREEZER aircraft  |   BBAL e.V.  |  Dachsel Flu
 gmotoren  |  ILV e.V.        Porta Air Service | THTEC aviation | United Ai
 rcraft Technology | Verkehrslandeplatz Jena-Schöngleina EDBJ\n\n\n	Tägliche
  Verlosung von mind. 4 Gutscheinen für ein 2-stündigen Crosswind-Sicherheit
 strainings auf Xwind200 in EDHF  (Wert: 199,- EUR)                   Teilna
 hme: messetäglich ab 9:00 Uhr            Xwind-Stand A3-101             Zie
 hung messetäglich 16:00 Uhr.\n\n\n	Unsere Xwind-Kunden, die bereits bei uns
  waren und eine gültige PPL(A)Lizenz besitzen, erhalten gegen Vorlage des e
 rhaltenen TRAININGSZERTIFIKATS  einen Gutschein über 40,-EUR, anrechenbar a
 uf den 1stündigen Trainingscharter C172 D-EORF bei Ihrem nächsten Besuch in
  EDHF (keine Auszahlung).\n\n\n	Neukunden, die auf der Messe einen Gutschei
 n für das kombinierte Training SIM&FLY (Simulatortraining plus 1h Flugtrain
 ing auf  C172 D-EORF) erwerben, erhalten einmalig einen Nachlass von 34,00 
 EUR (450,- EUR statt 484,- EUR)\n\n\n	Besuchen Sie uns auf dem Messestand A
 3-101 (auf dem Stand Aerokurier) und treffen Sie Ihr Trainerteam!\n\n\n	Che
 ftrainer Frank Manthey am Stand: Mittwoch, 20.4.2016 | 12:00 bis 14:00 Uhr 
 |\n\n\n	Auf dem Messestand begrüßen Sie  Anja Wolffson (Inhaberin) und Tom 
 Jülich (2. Xwind-Cheftrainer)\n\n\n	 \n\n\n	Im Aussteller-Pressefach auf ww
 w.aero-expo.com finden Sie viele interessante Informationen über unser Unte
 rnehmen.\n
CONTACT:http://www.aero-expo.com/
DTSTAMP:20260421T175133Z
DTSTART;TZID=Europe/Berlin;VALUE=DATE:20160420
DTEND;TZID=Europe/Berlin;VALUE=DATE:20160424
SEQUENCE:0
TRANSP:OPAQUE
END:VEVENT
END:VCALENDAR