BEGIN:VCALENDAR
VERSION:2.0
PRODID:-//jEvents 2.0 for Joomla//EN
CALSCALE:GREGORIAN
METHOD:PUBLISH
BEGIN:VTIMEZONE
TZID:Europe/Berlin
BEGIN:STANDARD
DTSTART:20161030T020000
RDATE:20170326T030000
TZOFFSETFROM:+0200
TZOFFSETTO:+0100
TZNAME:Europe/Berlin CET
END:STANDARD
BEGIN:STANDARD
DTSTART:20171029T020000
RDATE:20180325T030000
TZOFFSETFROM:+0200
TZOFFSETTO:+0100
TZNAME:Europe/Berlin CET
END:STANDARD
BEGIN:STANDARD
DTSTART:20181028T020000
RDATE:20190331T030000
TZOFFSETFROM:+0200
TZOFFSETTO:+0100
TZNAME:Europe/Berlin CET
END:STANDARD
BEGIN:STANDARD
DTSTART:20191027T020000
RDATE:20200329T030000
TZOFFSETFROM:+0200
TZOFFSETTO:+0100
TZNAME:Europe/Berlin CET
END:STANDARD
BEGIN:STANDARD
DTSTART:20201025T020000
RDATE:20210328T030000
TZOFFSETFROM:+0200
TZOFFSETTO:+0100
TZNAME:Europe/Berlin CET
END:STANDARD
BEGIN:DAYLIGHT
DTSTART:20160404T000000
RDATE:20161030T020000
TZOFFSETFROM:+0100
TZOFFSETTO:+0200
TZNAME:Europe/Berlin CEST
END:DAYLIGHT
BEGIN:DAYLIGHT
DTSTART:20170326T030000
RDATE:20171029T020000
TZOFFSETFROM:+0100
TZOFFSETTO:+0200
TZNAME:Europe/Berlin CEST
END:DAYLIGHT
BEGIN:DAYLIGHT
DTSTART:20180325T030000
RDATE:20181028T020000
TZOFFSETFROM:+0100
TZOFFSETTO:+0200
TZNAME:Europe/Berlin CEST
END:DAYLIGHT
BEGIN:DAYLIGHT
DTSTART:20190331T030000
RDATE:20191027T020000
TZOFFSETFROM:+0100
TZOFFSETTO:+0200
TZNAME:Europe/Berlin CEST
END:DAYLIGHT
BEGIN:DAYLIGHT
DTSTART:20200329T030000
RDATE:20201025T020000
TZOFFSETFROM:+0100
TZOFFSETTO:+0200
TZNAME:Europe/Berlin CEST
END:DAYLIGHT
END:VTIMEZONE
BEGIN:VEVENT
UID:d68580e9a4b4048bff163e22e36e9e0b
CATEGORIES:Messen & Veranstaltungen
SUMMARY:AERO 2017 Friedrichshafen
DESCRIPTION;ENCODING=QUOTED-PRINTABLE:<h3>	XWIND GOES AERO</h3><p>	Wir freuen uns auf Ihren Besuch bei uns am <st
 rong>Messestand A3-101</strong>!</p><p>	Inhaberin Anja Wolffson informiert 
 über individuelle Buchungsoptionen für Simulator-Training, Flugtraining und
  weitere Fortbildungsangebote am Xwind Training Center Germany / EDHF.</p><
 p>	Cheftrainer Tom Jülich und weitere Trainer (FI) des Xwind-Teams beraten 
 Sie zu effektiven Trainingsmethoden für die routinierte Handhabung der Anfl
 ugsituationen unter Crosswindbedingungen anhand ausgewählter Video-Beispiel
 e.</p><p>	Unsere messetägliche Aktion am Stand A3-101: <strong>PILOTEN GEWI
 NNEN SICHERHEIT  - Gewinnziehung MI/DO/FR um 16 Uhr, SA 14 Uhr  </strong>Fü
 hrende Unternehmen und Verbände der Luftfahrtbranche sponsern für 25 Pilote
 n insgesamt 25 Gutscheine für ein 2stündiges <strong>Crosswindtraining auf 
 dem Simulator xwind200  (Wert je 199,- EUR)</strong> im Xwind Training Cent
 er Germany - EDHF/Hungriger Wolf.</p><p>	Mittwoch, 5. April bis Sonnabend, 
 8. April 2017</p><p>	Messestand A3-101 (Ausstellungsfläche <em>aerokurier)<
 /em></p><p>	 </p><p>	 </p><div>	 </div>
DTSTAMP:20260421T162454Z
DTSTART;TZID=Europe/Berlin;VALUE=DATE:20170405
DTEND;TZID=Europe/Berlin;VALUE=DATE:20170409
SEQUENCE:0
TRANSP:OPAQUE
END:VEVENT
END:VCALENDAR