BEGIN:VCALENDAR
VERSION:2.0
PRODID:-//jEvents 2.0 for Joomla//EN
CALSCALE:GREGORIAN
METHOD:PUBLISH
BEGIN:VTIMEZONE
TZID:Europe/Berlin
BEGIN:STANDARD
DTSTART:20161030T020000
RDATE:20170326T030000
TZOFFSETFROM:+0200
TZOFFSETTO:+0100
TZNAME:Europe/Berlin CET
END:STANDARD
BEGIN:STANDARD
DTSTART:20171029T020000
RDATE:20180325T030000
TZOFFSETFROM:+0200
TZOFFSETTO:+0100
TZNAME:Europe/Berlin CET
END:STANDARD
BEGIN:STANDARD
DTSTART:20181028T020000
RDATE:20190331T030000
TZOFFSETFROM:+0200
TZOFFSETTO:+0100
TZNAME:Europe/Berlin CET
END:STANDARD
BEGIN:STANDARD
DTSTART:20191027T020000
RDATE:20200329T030000
TZOFFSETFROM:+0200
TZOFFSETTO:+0100
TZNAME:Europe/Berlin CET
END:STANDARD
BEGIN:STANDARD
DTSTART:20201025T020000
RDATE:20210328T030000
TZOFFSETFROM:+0200
TZOFFSETTO:+0100
TZNAME:Europe/Berlin CET
END:STANDARD
BEGIN:DAYLIGHT
DTSTART:20160601T100000
RDATE:20161030T020000
TZOFFSETFROM:+0100
TZOFFSETTO:+0200
TZNAME:Europe/Berlin CEST
END:DAYLIGHT
BEGIN:DAYLIGHT
DTSTART:20170326T030000
RDATE:20171029T020000
TZOFFSETFROM:+0100
TZOFFSETTO:+0200
TZNAME:Europe/Berlin CEST
END:DAYLIGHT
BEGIN:DAYLIGHT
DTSTART:20180325T030000
RDATE:20181028T020000
TZOFFSETFROM:+0100
TZOFFSETTO:+0200
TZNAME:Europe/Berlin CEST
END:DAYLIGHT
BEGIN:DAYLIGHT
DTSTART:20190331T030000
RDATE:20191027T020000
TZOFFSETFROM:+0100
TZOFFSETTO:+0200
TZNAME:Europe/Berlin CEST
END:DAYLIGHT
BEGIN:DAYLIGHT
DTSTART:20200329T030000
RDATE:20201025T020000
TZOFFSETFROM:+0100
TZOFFSETTO:+0200
TZNAME:Europe/Berlin CEST
END:DAYLIGHT
END:VTIMEZONE
BEGIN:VEVENT
UID:366e19da5630f99bdf2522bd912d34d1
CATEGORIES:ICAO-Sprachprüfung
SUMMARY:ICAO-ELPT Level 6
DESCRIPTION;ENCODING=QUOTED-PRINTABLE:<p align="center">	<u>ICAO-ELPT</u></p><p align="center">	<u>LEVEL 6</u></p
 ><p align="center">	 </p><p align="center">	<u>KURZFRISTIG NOCH TERMINE FRE
 I</u></p><p>	 </p><p align="center">	FREITAG, 2. JUNI 2017</p><p align="cen
 ter">	 </p><p align="center">	EDHF – HUNGRIGER WOLF</p><p align="center">	X
 WIND TRAINING CENTER GERMANY</p><p>	 </p><p>	Es werden 8 Prüfungen im Zeitr
 aum zwischen 10:00 und 17:00h lt angeboten (Dauer jeweils ca. 45 Min), Verg
 abe nach eingehenden Meldungen.</p><p>	<strong>Teilnehmer müssen spätestens
  10 Tage vor Prüfung beim LBA gemeldet werden (Ausschlussfrist).</strong></
 p><p>	ANMELDUNGEN AN: <strong><span id="cloak69d81090b05db928b5de5f11dd22ca
 94">Diese E-Mail-Adresse ist vor Spambots geschützt! Zur Anzeige muss JavaS
 cript eingeschaltet sein!</span><script type='text/javascript'>
				documen
 t.getElementById('cloak69d81090b05db928b5de5f11dd22ca94').innerHTML = '';
	
 			var prefix = '&#109;a' + 'i&#108;' + '&#116;o';
				var path = 'hr' + 'e
 f' + '=';
				var addy69d81090b05db928b5de5f11dd22ca94 = 'KONTAKT' + '&#64;
 ';
				addy69d81090b05db928b5de5f11dd22ca94 = addy69d81090b05db928b5de5f11d
 d22ca94 + 'XWINDSIM' + '&#46;' + 'DE';
				var addy_text69d81090b05db928b5d
 e5f11dd22ca94 = 'KONTAKT' + '&#64;' + 'XWINDSIM' + '&#46;' + 'DE';document.
 getElementById('cloak69d81090b05db928b5de5f11dd22ca94').innerHTML += '<a ' 
 + path + '\'' + prefix + ':' + addy69d81090b05db928b5de5f11dd22ca94 + '\'>'
 +addy_text69d81090b05db928b5de5f11dd22ca94+'<\/a>';
		</script></strong></p
 ><p>	<strong>ANMELDESCHLUSS:            19. MAI 2017</strong></p><p>	Kosten
 :</p><p>	Level 6          395,00 EUR         (sofern nur Level 5 attestiert
  wird, ist auch nur L5 zu bezahlen, Kosten L5 : 289,00 EUR)</p><p>	PRÜFERTE
 AM: DIANA TIBO | ANDREAS SCHOLZ</p><p>	 </p><p>	 </p>
DTSTAMP:20260421T101012Z
DTSTART;TZID=Europe/Berlin:20170602T100000
DTEND;TZID=Europe/Berlin:20170602T170000
SEQUENCE:0
TRANSP:OPAQUE
END:VEVENT
END:VCALENDAR