BEGIN:VCALENDAR
VERSION:2.0
PRODID:-//jEvents 2.0 for Joomla//EN
CALSCALE:GREGORIAN
METHOD:PUBLISH
BEGIN:VTIMEZONE
TZID:Europe/Berlin
BEGIN:STANDARD
DTSTART:20151025T020000
RDATE:20160327T030000
TZOFFSETFROM:+0200
TZOFFSETTO:+0100
TZNAME:Europe/Berlin CET
END:STANDARD
BEGIN:STANDARD
DTSTART:20161030T020000
RDATE:20170326T030000
TZOFFSETFROM:+0200
TZOFFSETTO:+0100
TZNAME:Europe/Berlin CET
END:STANDARD
BEGIN:STANDARD
DTSTART:20171029T020000
RDATE:20180325T030000
TZOFFSETFROM:+0200
TZOFFSETTO:+0100
TZNAME:Europe/Berlin CET
END:STANDARD
BEGIN:STANDARD
DTSTART:20181028T020000
RDATE:20190331T030000
TZOFFSETFROM:+0200
TZOFFSETTO:+0100
TZNAME:Europe/Berlin CET
END:STANDARD
BEGIN:STANDARD
DTSTART:20191027T020000
RDATE:20200329T030000
TZOFFSETFROM:+0200
TZOFFSETTO:+0100
TZNAME:Europe/Berlin CET
END:STANDARD
BEGIN:STANDARD
DTSTART:20201025T020000
RDATE:20210328T030000
TZOFFSETFROM:+0200
TZOFFSETTO:+0100
TZNAME:Europe/Berlin CET
END:STANDARD
BEGIN:DAYLIGHT
DTSTART:20150506T000000
RDATE:20151025T020000
TZOFFSETFROM:+0100
TZOFFSETTO:+0200
TZNAME:Europe/Berlin CEST
END:DAYLIGHT
BEGIN:DAYLIGHT
DTSTART:20160327T030000
RDATE:20161030T020000
TZOFFSETFROM:+0100
TZOFFSETTO:+0200
TZNAME:Europe/Berlin CEST
END:DAYLIGHT
BEGIN:DAYLIGHT
DTSTART:20170326T030000
RDATE:20171029T020000
TZOFFSETFROM:+0100
TZOFFSETTO:+0200
TZNAME:Europe/Berlin CEST
END:DAYLIGHT
BEGIN:DAYLIGHT
DTSTART:20180325T030000
RDATE:20181028T020000
TZOFFSETFROM:+0100
TZOFFSETTO:+0200
TZNAME:Europe/Berlin CEST
END:DAYLIGHT
BEGIN:DAYLIGHT
DTSTART:20190331T030000
RDATE:20191027T020000
TZOFFSETFROM:+0100
TZOFFSETTO:+0200
TZNAME:Europe/Berlin CEST
END:DAYLIGHT
BEGIN:DAYLIGHT
DTSTART:20200329T030000
RDATE:20201025T020000
TZOFFSETFROM:+0100
TZOFFSETTO:+0200
TZNAME:Europe/Berlin CEST
END:DAYLIGHT
END:VTIMEZONE
BEGIN:VEVENT
UID:5dbbcc0e1a4102450021a8cf05cccccc
CATEGORIES:ICAO-Sprachprüfung
SUMMARY:ICAO-Sprachprüfung L 6 + 5
DESCRIPTION;ENCODING=QUOTED-PRINTABLE:<p>	<strong>ICAO-Sprachprüfung Level 6 und 5</strong></p><p>	Prüfer: Andrea
 s Scholz / Rainer Tibo</p><p>	noch 3Plätze frei</p><p>	Anmeldung ab sofort 
 bis spätestens 25.April (10 Tage vor Prüfungsbeginn, Ausschlussfrist L6 LBA
 -seitig)</p><p>	Kosten: Level 6: 399,- EUR  |  Level 5: 289,- EUR</p><p>	Be
 i gleichzeitiger Buchung eines Crosswindtrainings reduzieren sich die Veran
 staltungskosten für die Sprachprüfung um 40,- EUR</p>
DTSTAMP:20260421T162454Z
DTSTART;TZID=Europe/Berlin;VALUE=DATE:20160506
DTEND;TZID=Europe/Berlin;VALUE=DATE:20160507
SEQUENCE:0
TRANSP:OPAQUE
END:VEVENT
END:VCALENDAR