BEGIN:VCALENDAR
VERSION:2.0
PRODID:-//jEvents 2.0 for Joomla//EN
CALSCALE:GREGORIAN
METHOD:PUBLISH
BEGIN:VTIMEZONE
TZID:Europe/Berlin
BEGIN:STANDARD
DTSTART:20171029T020000
RDATE:20180325T030000
TZOFFSETFROM:+0200
TZOFFSETTO:+0100
TZNAME:Europe/Berlin CET
END:STANDARD
BEGIN:STANDARD
DTSTART:20181028T020000
RDATE:20190331T030000
TZOFFSETFROM:+0200
TZOFFSETTO:+0100
TZNAME:Europe/Berlin CET
END:STANDARD
BEGIN:STANDARD
DTSTART:20191027T020000
RDATE:20200329T030000
TZOFFSETFROM:+0200
TZOFFSETTO:+0100
TZNAME:Europe/Berlin CET
END:STANDARD
BEGIN:STANDARD
DTSTART:20201025T020000
RDATE:20210328T030000
TZOFFSETFROM:+0200
TZOFFSETTO:+0100
TZNAME:Europe/Berlin CET
END:STANDARD
BEGIN:DAYLIGHT
DTSTART:20170417T000000
RDATE:20171029T020000
TZOFFSETFROM:+0100
TZOFFSETTO:+0200
TZNAME:Europe/Berlin CEST
END:DAYLIGHT
BEGIN:DAYLIGHT
DTSTART:20180325T030000
RDATE:20181028T020000
TZOFFSETFROM:+0100
TZOFFSETTO:+0200
TZNAME:Europe/Berlin CEST
END:DAYLIGHT
BEGIN:DAYLIGHT
DTSTART:20190331T030000
RDATE:20191027T020000
TZOFFSETFROM:+0100
TZOFFSETTO:+0200
TZNAME:Europe/Berlin CEST
END:DAYLIGHT
BEGIN:DAYLIGHT
DTSTART:20200329T030000
RDATE:20201025T020000
TZOFFSETFROM:+0100
TZOFFSETTO:+0200
TZNAME:Europe/Berlin CEST
END:DAYLIGHT
END:VTIMEZONE
BEGIN:VEVENT
UID:ddcfd06bebdc4ee4a339c4fa83e95f29
CATEGORIES:Messen & Veranstaltungen
SUMMARY:AERO Friedrichshafen
DESCRIPTION;ENCODING=QUOTED-PRINTABLE:<p>	<strong>Xwind goes AERO!</strong></p><p>	Mittwoch 18.April bis Sonnaben
 d 21. April in Friedrichshafen</p><p>	Sie finden uns wie in den vergangenen
  Jahren wieder am Stand A3 - 101 beim AEROKURIER</p><p>	Tägliche Verlosung 
 von Gutscheinen für ein Crosswind-Sicherheitstraining "PILOTEN GEWINNEN SIC
 HERHEIT"</p><p>	Wir freuen uns auf Ihren Besuch auf unserem Messestand!</p>
 <p>	Informieren Sie sich über Trainingsinhalte, Fort- und Weiterbildungsang
 ebote und Buchungsmöglichkeiten </p><p>	bei Anja Wolffson, Tom Jülich und d
 en jeweils anwesenden Trainern</p><p>	- in dieser Zeit kein Trainingsangebo
 t in EDHF -</p>
DTSTAMP:20260421T114856Z
DTSTART;TZID=Europe/Berlin;VALUE=DATE:20180418
DTEND;TZID=Europe/Berlin;VALUE=DATE:20180422
SEQUENCE:0
TRANSP:OPAQUE
END:VEVENT
END:VCALENDAR