BEGIN:VCALENDAR
VERSION:2.0
PRODID:-//jEvents 2.0 for Joomla//EN
CALSCALE:GREGORIAN
METHOD:PUBLISH
BEGIN:VTIMEZONE
TZID:Europe/Berlin
BEGIN:STANDARD
DTSTART:20170118T000000
RDATE:20170326T030000
TZOFFSETFROM:+0200
TZOFFSETTO:+0100
TZNAME:Europe/Berlin CET
END:STANDARD
BEGIN:STANDARD
DTSTART:20171029T020000
RDATE:20180325T030000
TZOFFSETFROM:+0200
TZOFFSETTO:+0100
TZNAME:Europe/Berlin CET
END:STANDARD
BEGIN:STANDARD
DTSTART:20181028T020000
RDATE:20190331T030000
TZOFFSETFROM:+0200
TZOFFSETTO:+0100
TZNAME:Europe/Berlin CET
END:STANDARD
BEGIN:STANDARD
DTSTART:20191027T020000
RDATE:20200329T030000
TZOFFSETFROM:+0200
TZOFFSETTO:+0100
TZNAME:Europe/Berlin CET
END:STANDARD
BEGIN:STANDARD
DTSTART:20201025T020000
RDATE:20210328T030000
TZOFFSETFROM:+0200
TZOFFSETTO:+0100
TZNAME:Europe/Berlin CET
END:STANDARD
BEGIN:DAYLIGHT
DTSTART:20170326T030000
RDATE:20171029T020000
TZOFFSETFROM:+0100
TZOFFSETTO:+0200
TZNAME:Europe/Berlin CEST
END:DAYLIGHT
BEGIN:DAYLIGHT
DTSTART:20180325T030000
RDATE:20181028T020000
TZOFFSETFROM:+0100
TZOFFSETTO:+0200
TZNAME:Europe/Berlin CEST
END:DAYLIGHT
BEGIN:DAYLIGHT
DTSTART:20190331T030000
RDATE:20191027T020000
TZOFFSETFROM:+0100
TZOFFSETTO:+0200
TZNAME:Europe/Berlin CEST
END:DAYLIGHT
BEGIN:DAYLIGHT
DTSTART:20200329T030000
RDATE:20201025T020000
TZOFFSETFROM:+0100
TZOFFSETTO:+0200
TZNAME:Europe/Berlin CEST
END:DAYLIGHT
END:VTIMEZONE
BEGIN:VEVENT
UID:c16ee94a7b66699c2055cfbfc80369a8
CATEGORIES:ICAO-Sprachprüfung
SUMMARY:ICAO-LPT Level 6
DESCRIPTION;ENCODING=QUOTED-PRINTABLE:<p>	 </p><div>	<div style="font-family: CenturyGothic; font-size: 14px;">		
 Prüferseitig sind max 8 Prüfungen an dem Tag zulässig.</div>	<div style="fo
 nt-family: CenturyGothic; font-size: 14px;">		Vergabe erfolgt in Reihenfolg
 e der Rückmeldungen.</div>	<div style="font-family: CenturyGothic; font-siz
 e: 14px;">		 </div>	<div style="font-family: CenturyGothic; font-size: 14px
 ;">		Kosten:</div>	<div style="font-family: CenturyGothic; font-size: 14px;
 ">		<div>			Level 6:<span class="Apple-tab-span" style="white-space: pre;">
  </span> 359,00 EUR, (sofern nur L5 attestiert wird, ist auch nur L5 zu bez
 ahlen)</div>		<div>			Level 5 Erstprüfung:<span class="Apple-tab-span" styl
 e="white-space: pre;"> </span>249,00 EUR</div>		<div>			ohne Crosswindtrain
 ing jeweils zuzüglich 40,00 EUR Organisationspauschale p.P..</div>	</div>	<
 div style="font-family: CenturyGothic; font-size: 14px;">		 </div>	<div sty
 le="font-family: CenturyGothic; font-size: 14px;">		<span>Am Prüfungstag wi
 rd auch das reguläre </span><b>Crosswindtraining</b><font face="CenturyGoth
 ic"> angeboten.</font></div>	<div style="font-family: CenturyGothic; font-s
 ize: 14px;">		Diejenigen, die an diesem Training interessiert sind, werden 
 um entsprechende Voranmeldung gebeten.</div>	<div style="font-family: Centu
 ryGothic; font-size: 14px;">		<div>			Alle Kandidaten müssen <b>10 Tage zuv
 or von den Prüfern beim LBA gemeldet werden (Ausschlussfrist).</b></div>		<
 div>			<b>Hier werden Namen und Adresse benötigt.</b></div>		<div>			 </div
 >		<div>			<div>				<div>					<b>Freitag 19. Januar 2018</b></div>				<div>
 					<b>Level 6 (+5)</b></div>				<div>					<b>Prüferteam Scholz/Tibo</b></
 div>				<div>					<b>Ort: ILV-Clubheim/Xwind EDHF<span class="Apple-tab-spa
 n" style="white-space: pre;"> </span>Heeresfliegerstrasse 16</b></div>			</
 div>			<div>				 </div>			<div>				<div>					<b>Buchungsbestätigung/Rechnun
 g/storno</b></div>				<div>					Wir wünschen allen Kandidaten Glück und geh
 en selbstverständlich davon aus, dass  das angestrebte Level bescheinigt wi
 rd.</div>				<div>					Nur um für den unwahrscheinlichen Fall der Einschätz
 ung auf Level 5 Rückbuchungen zu vermeiden, wird die Rechnung mit der Bitte
  um Vorauskasse in Höhe einer L 5 -Prüfung ausgestellt.</div>				<div>					
 <font face="CenturyGothic">Der Differenzbetrag (110,- EUR) wird am Prüfungs
 tag </font><b>vor Ort in bar</b><font face="CenturyGothic"> erbeten.</font>
 </div>				<div>					Rechnungsstellung erfolgt nach Rückmeldung ca. 4 Wochen
  vor Prüfungstermin und ist fällig nach Rechnungseingang.</div>				<div>			
 		<div>						50% storno des Rechnungsbetrages bei Absagen bis 5 Tage vor Pr
 üftermin</div>					<div>						100% storno bei späteren Absagen.</div>				</
 div>			</div>		</div>	</div></div>
DTSTAMP:20260421T161807Z
DTSTART;TZID=Europe/Berlin;VALUE=DATE:20180119
DTEND;TZID=Europe/Berlin;VALUE=DATE:20180120
SEQUENCE:0
TRANSP:OPAQUE
END:VEVENT
END:VCALENDAR