BEGIN:VCALENDAR
VERSION:2.0
PRODID:-//jEvents 2.0 for Joomla//EN
CALSCALE:GREGORIAN
METHOD:PUBLISH
BEGIN:VTIMEZONE
TZID:Europe/Berlin
BEGIN:STANDARD
DTSTART:20171029T020000
RDATE:20180325T030000
TZOFFSETFROM:+0200
TZOFFSETTO:+0100
TZNAME:Europe/Berlin CET
END:STANDARD
BEGIN:STANDARD
DTSTART:20181028T020000
RDATE:20190331T030000
TZOFFSETFROM:+0200
TZOFFSETTO:+0100
TZNAME:Europe/Berlin CET
END:STANDARD
BEGIN:STANDARD
DTSTART:20191027T020000
RDATE:20200329T030000
TZOFFSETFROM:+0200
TZOFFSETTO:+0100
TZNAME:Europe/Berlin CET
END:STANDARD
BEGIN:STANDARD
DTSTART:20201025T020000
RDATE:20210328T030000
TZOFFSETFROM:+0200
TZOFFSETTO:+0100
TZNAME:Europe/Berlin CET
END:STANDARD
BEGIN:DAYLIGHT
DTSTART:20170531T000000
RDATE:20171029T020000
TZOFFSETFROM:+0100
TZOFFSETTO:+0200
TZNAME:Europe/Berlin CEST
END:DAYLIGHT
BEGIN:DAYLIGHT
DTSTART:20180325T030000
RDATE:20181028T020000
TZOFFSETFROM:+0100
TZOFFSETTO:+0200
TZNAME:Europe/Berlin CEST
END:DAYLIGHT
BEGIN:DAYLIGHT
DTSTART:20190331T030000
RDATE:20191027T020000
TZOFFSETFROM:+0100
TZOFFSETTO:+0200
TZNAME:Europe/Berlin CEST
END:DAYLIGHT
BEGIN:DAYLIGHT
DTSTART:20200329T030000
RDATE:20201025T020000
TZOFFSETFROM:+0100
TZOFFSETTO:+0200
TZNAME:Europe/Berlin CEST
END:DAYLIGHT
END:VTIMEZONE
BEGIN:VEVENT
UID:a4c8ee2c8cd99ef8ceed27eebb9f5293
CATEGORIES:Crosswindtraining
SUMMARY:SIM&FLY + CMD in EDHF
DESCRIPTION;ENCODING=QUOTED-PRINTABLE:<p>	SIM&FLY</p><p>	von Freitag, 1. Juni</p><p>	bis Montag, 4. Juni</p><p>	<
 strong>Terminbuchung auf Voranmeldung</strong> (mind. 2 Wo im Voraus empfoh
 len)</p><p>	ICAO-ELPT Level 4 und 5 Erstprfg.+Verlängerung auf Anfrage</p><
 p>	max. 6 Teilnehmer pro Trainingstag</p><p>	Trainer on duty: NN</p><p>	<st
 rong>Am 2. + 3. Juni finden auf dem Flugplatz EDHF/ Hungriger Wolf die CLAS
 SIC MOTOR DAYS statt!</strong></p>
DTSTAMP:20260421T101013Z
DTSTART;TZID=Europe/Berlin;VALUE=DATE:20180601
DTEND;TZID=Europe/Berlin;VALUE=DATE:20180605
SEQUENCE:0
TRANSP:OPAQUE
END:VEVENT
END:VCALENDAR