BEGIN:VCALENDAR
VERSION:2.0
PRODID:-//jEvents 2.0 for Joomla//EN
CALSCALE:GREGORIAN
METHOD:PUBLISH
BEGIN:VTIMEZONE
TZID:Europe/Berlin
BEGIN:STANDARD
DTSTART:20171029T020000
RDATE:20180325T030000
TZOFFSETFROM:+0200
TZOFFSETTO:+0100
TZNAME:Europe/Berlin CET
END:STANDARD
BEGIN:STANDARD
DTSTART:20181028T020000
RDATE:20190331T030000
TZOFFSETFROM:+0200
TZOFFSETTO:+0100
TZNAME:Europe/Berlin CET
END:STANDARD
BEGIN:STANDARD
DTSTART:20191027T020000
RDATE:20200329T030000
TZOFFSETFROM:+0200
TZOFFSETTO:+0100
TZNAME:Europe/Berlin CET
END:STANDARD
BEGIN:STANDARD
DTSTART:20201025T020000
RDATE:20210328T030000
TZOFFSETFROM:+0200
TZOFFSETTO:+0100
TZNAME:Europe/Berlin CET
END:STANDARD
BEGIN:DAYLIGHT
DTSTART:20170905T000000
RDATE:20171029T020000
TZOFFSETFROM:+0100
TZOFFSETTO:+0200
TZNAME:Europe/Berlin CEST
END:DAYLIGHT
BEGIN:DAYLIGHT
DTSTART:20180325T030000
RDATE:20181028T020000
TZOFFSETFROM:+0100
TZOFFSETTO:+0200
TZNAME:Europe/Berlin CEST
END:DAYLIGHT
BEGIN:DAYLIGHT
DTSTART:20190331T030000
RDATE:20191027T020000
TZOFFSETFROM:+0100
TZOFFSETTO:+0200
TZNAME:Europe/Berlin CEST
END:DAYLIGHT
BEGIN:DAYLIGHT
DTSTART:20200329T030000
RDATE:20201025T020000
TZOFFSETFROM:+0100
TZOFFSETTO:+0200
TZNAME:Europe/Berlin CEST
END:DAYLIGHT
END:VTIMEZONE
BEGIN:VEVENT
UID:fdb067db344d1f0e7ca8a1863c5f24bd
CATEGORIES:Crosswindtraining
SUMMARY:SIM&FLY
DESCRIPTION;ENCODING=QUOTED-PRINTABLE:<p>	SIM&FLY</p><p>	von Donnerstag, 6. September</p><p>	bis Montag, 10. Sept
 ember</p><p>	<strong>Terminbuchung auf Voranmeldung</strong> (mind. 2 Wo im
  Voraus empfohlen)</p><p>	ICAO-ELPT Level 4 und 5 Erstprfg.+Verlängerung au
 f Anfrage</p><p>	max. 6 Teilnehmer pro Trainingstag</p><p>	Trainer on duty:
  NN</p>
DTSTAMP:20260421T144359Z
DTSTART;TZID=Europe/Berlin;VALUE=DATE:20180906
DTEND;TZID=Europe/Berlin;VALUE=DATE:20180911
SEQUENCE:0
TRANSP:OPAQUE
END:VEVENT
END:VCALENDAR